BEGIN:VCALENDAR
VERSION:2.0
PRODID:-//Tent Talks - ECPv5.16.4//NONSGML v1.0//EN
CALSCALE:GREGORIAN
METHOD:PUBLISH
X-WR-CALNAME:Tent Talks
X-ORIGINAL-URL:https://tenttalks.org.uk
X-WR-CALDESC:Events for Tent Talks
REFRESH-INTERVAL;VALUE=DURATION:PT1H
X-Robots-Tag:noindex
X-PUBLISHED-TTL:PT1H
BEGIN:VTIMEZONE
TZID:Europe/London
BEGIN:DAYLIGHT
TZOFFSETFROM:+0000
TZOFFSETTO:+0100
TZNAME:BST
DTSTART:20210328T010000
END:DAYLIGHT
BEGIN:STANDARD
TZOFFSETFROM:+0100
TZOFFSETTO:+0000
TZNAME:GMT
DTSTART:20211031T010000
END:STANDARD
END:VTIMEZONE
BEGIN:VEVENT
DTSTART;VALUE=DATE:20210402
DTEND;VALUE=DATE:20210406
DTSTAMP:20260424T134754
CREATED:20210403T113631Z
LAST-MODIFIED:20210403T113703Z
UID:1232-1617321600-1617667199@tenttalks.org.uk
SUMMARY:Easter Egg Hunt
DESCRIPTION:Can you find all the eggs? More information TentTalks.org.uk/Easter
URL:https://tenttalks.org.uk/events/easter-egg-hunt/
CATEGORIES:Online
ORGANIZER;CN="Tent%20Talks":MAILTO:Hello@TentTalks.org.uk
END:VEVENT
END:VCALENDAR